BEGIN:VCALENDAR
VERSION:2.0
PRODID:-//Kultur vom Deich - ECPv6.1.2.2//NONSGML v1.0//EN
CALSCALE:GREGORIAN
METHOD:PUBLISH
X-ORIGINAL-URL:https://www.lak.de
X-WR-CALDESC:Veranstaltungen für Kultur vom Deich
REFRESH-INTERVAL;VALUE=DURATION:PT1H
X-Robots-Tag:noindex
X-PUBLISHED-TTL:PT1H
BEGIN:VTIMEZONE
TZID:Europe/Berlin
BEGIN:DAYLIGHT
TZOFFSETFROM:+0100
TZOFFSETTO:+0200
TZNAME:CEST
DTSTART:20240331T010000
END:DAYLIGHT
BEGIN:STANDARD
TZOFFSETFROM:+0200
TZOFFSETTO:+0100
TZNAME:CET
DTSTART:20241027T010000
END:STANDARD
END:VTIMEZONE
BEGIN:VEVENT
DTSTART;TZID=Europe/Berlin:20241120T160000
DTEND;TZID=Europe/Berlin:20241120T173000
DTSTAMP:20260423T132501
CREATED:20240720T154216Z
LAST-MODIFIED:20241108T154656Z
UID:4403-1732118400-1732123800@www.lak.de
SUMMARY:LAK-Kinderkino
DESCRIPTION:[vc_row][vc_column][vc_column_text]Wir zeigen einen Film im Rahmen unseres LAK-Kinderkinos...\n\nOrt und Zeit sowie welcher Film gezeigt wird\, finden Sie kurz vorher hier online sowie per Aushang an vielen Orten in der Krummhörn.[/vc_column_text][/vc_column][/vc_row]\nHeute: \nIm Himmel ist auch Platz für Mäuse
URL:https://www.lak.de/event/lak-kinderkino-24-11-20/
LOCATION:Grimersum – Dorfgemeinschaftshaus\, Dorfstr. 17\, Krummhörn\, 26736
CATEGORIES:Veranstaltungen 2024
END:VEVENT
END:VCALENDAR