BEGIN:VCALENDAR
VERSION:2.0
PRODID:-//Kultur vom Deich - ECPv6.1.2.2//NONSGML v1.0//EN
CALSCALE:GREGORIAN
METHOD:PUBLISH
X-WR-CALNAME:Kultur vom Deich
X-ORIGINAL-URL:https://www.lak.de
X-WR-CALDESC:Veranstaltungen für Kultur vom Deich
REFRESH-INTERVAL;VALUE=DURATION:PT1H
X-Robots-Tag:noindex
X-PUBLISHED-TTL:PT1H
BEGIN:VTIMEZONE
TZID:Europe/Berlin
BEGIN:DAYLIGHT
TZOFFSETFROM:+0100
TZOFFSETTO:+0200
TZNAME:CEST
DTSTART:20240331T010000
END:DAYLIGHT
BEGIN:STANDARD
TZOFFSETFROM:+0200
TZOFFSETTO:+0100
TZNAME:CET
DTSTART:20241027T010000
END:STANDARD
END:VTIMEZONE
BEGIN:VEVENT
DTSTART;TZID=Europe/Berlin:20241207T170000
DTEND;TZID=Europe/Berlin:20241207T183000
DTSTAMP:20260423T163652
CREATED:20241121T190156Z
LAST-MODIFIED:20241121T191849Z
UID:4599-1733590800-1733596200@www.lak.de
SUMMARY:WhyBirdsSing
DESCRIPTION:„Singen“ Vögel tatsachlich? Können wir die Muster ihrer Flugbahnen nachzeichnen und der Natur abgelauschte Klange in Bewegung umsetzen? Sind die Klange der Natur „musikalisch“? Wie entsteht Musik? Die Forschenden\, Musiker*innen und Kunstler*innen des Projekts WhyBirdsSing nahern sich diesen Fragen aus der Perspektive von Biologie\, Naturphilosophie\, Musik\, Bewegungs- und Lichtkunst und kommen dabei zu erstaunlichen\, kunstlerisch eindrucksvollen Ergebnissen. \nIm Rahmen von WhyBirdsSing in Groothusen begeben sich bei diesem illuminierten Konzertabend das ViolinDuo Sugimura/Werhahn zusammen mit der Künstlergruppe RaumZeitPiraten\, der Komponistin Jamilia Jazylbekova und der Tonstabgruppe Groothusen unter der Leitung von Mattis Reinders sowie den beiden international renommierten Wissenschaftlern Prof. Mark E. Hauber (City University New York) und Dr. Ulrike Sienknecht (Universitat Oldenburg) auf die Reise den Gesang heimischer Singvogel zu ergründen und dessen alltagliche Schönheit dem Publikum neu und anders nahe zu bringen. \nWeitere Informationen:\nhttp://www.whybirdssing.de/\nhttps://www.instagram.com/why_birds_sing_/ \nPreis für alle Konzerte: „Pay what you can“ – Richtwert 25 €\, ermäßigt 10 €
URL:https://www.lak.de/event/whybirdssing/
LOCATION:Groothusen – St.-Petrus-Kirche\, Husumer Hörn 5\, Krummhörn\, 26736
CATEGORIES:2024
ATTACH;FMTTYPE=image/jpeg:https://www.lak.de/wp-content/uploads/2024/11/WhyBirdsSing_FlyerAlarm_DRUCK_1.jpg
END:VEVENT
END:VCALENDAR