BEGIN:VCALENDAR
VERSION:2.0
PRODID:-//Kultur vom Deich - ECPv6.1.2.2//NONSGML v1.0//EN
CALSCALE:GREGORIAN
METHOD:PUBLISH
X-ORIGINAL-URL:https://www.lak.de
X-WR-CALDESC:Veranstaltungen für Kultur vom Deich
REFRESH-INTERVAL;VALUE=DURATION:PT1H
X-Robots-Tag:noindex
X-PUBLISHED-TTL:PT1H
BEGIN:VTIMEZONE
TZID:Europe/Berlin
BEGIN:DAYLIGHT
TZOFFSETFROM:+0100
TZOFFSETTO:+0200
TZNAME:CEST
DTSTART:20240331T010000
END:DAYLIGHT
BEGIN:STANDARD
TZOFFSETFROM:+0200
TZOFFSETTO:+0100
TZNAME:CET
DTSTART:20241027T010000
END:STANDARD
END:VTIMEZONE
BEGIN:VEVENT
DTSTART;TZID=Europe/Berlin:20241228T140000
DTEND;TZID=Europe/Berlin:20241228T180000
DTSTAMP:20260423T210312
CREATED:20241219T135008Z
LAST-MODIFIED:20241219T135008Z
UID:4609-1735394400-1735408800@www.lak.de
SUMMARY:Knappkaukjes-Backen
DESCRIPTION:Traditionelles Neujahrskuchenbacken neu im Greetsieler Steinhaus \nEs gibt eine langjährige Tradition in Greetsiel\, dass zum Jahreswechsel Neujahrsröllchen gebacken werden\, die dann frisch aus dem Waffeleisen gegessen werden können. Bisher fand diese Aktion jedes Jahr in Poppingas alter Bäckerei statt. Da die Bäckerei inzwischen geschlossen ist\, droht das Neujahrskuchenbacken zu verschwinden. Deshalb hat sich die LAK entschlossen\, die Lücke zu schließen. Im alten Steinhaus in Greetsiel werden am 28.12.2024 ab 14 Uhr die traditionellen Neujahrskuchen\, auch Rullerkes oder Knappkaukjes genannt\, frisch zubereitet und interessierten Gästen angeboten. In uriger Atmosphäre gibt es dazu Glühwein und Punsch sowie anregende Erzählungen zur Geschichte des Steinhauses. Wir freuen uns\, auf einen gemütlichen Nachmittag zum Ende des Jahres.
URL:https://www.lak.de/event/knappkaukjes-backen-2/
LOCATION:Greetsiel – Steinhaus\, Kleinbahnstr. 1\, Krummhörn\, 26736
CATEGORIES:Veranstaltungen 2024
ATTACH;FMTTYPE=application/pdf:https://www.lak.de/wp-content/uploads/2024/12/Neujahrskuchenbacken.pdf
END:VEVENT
END:VCALENDAR